Package: iCOBRA Version: 1.32.0 Command: rm -rf iCOBRA.buildbin-libdir && mkdir iCOBRA.buildbin-libdir && /Users/biocbuild/BBS/utils/build-universal.sh iCOBRA_1.32.0.tar.gz /Library/Frameworks/R.framework/Resources/bin/R iCOBRA.buildbin-libdir StartedAt: 2024-10-17 16:22:55 -0400 (Thu, 17 Oct 2024) EndedAt: 2024-10-17 16:23:29 -0400 (Thu, 17 Oct 2024) EllapsedTime: 34.6 seconds RetCode: 0 Status: OK PackageFile: iCOBRA_1.32.0.tgz PackageFileSize: 2.755 MiB