Package: iCNV Version: 1.24.0 Command: E:\biocbuild\bbs-3.19-bioc\R\bin\R.exe CMD INSTALL iCNV StartedAt: 2024-10-16 16:30:34 -0400 (Wed, 16 Oct 2024) EndedAt: 2024-10-16 16:31:51 -0400 (Wed, 16 Oct 2024) EllapsedTime: 77.2 seconds RetCode: 0 Status: OK