Package: iCNV Version: 1.24.0 Command: chmod a+r iCNV -R && E:\biocbuild\bbs-3.19-bioc\R\bin\R.exe CMD build --keep-empty-dirs --no-resave-data iCNV StartedAt: 2024-10-16 19:45:54 -0400 (Wed, 16 Oct 2024) EndedAt: 2024-10-16 19:50:09 -0400 (Wed, 16 Oct 2024) EllapsedTime: 254.7 seconds RetCode: 0 Status: OK PackageFile: iCNV_1.24.0.tar.gz PackageFileSize: 1.765 MiB