Package: iCNV Version: 1.24.0 Command: chmod a+r iCNV -R && F:\biocbuild\bbs-3.19-bioc\R\bin\R.exe CMD build --keep-empty-dirs --no-resave-data iCNV StartedAt: 2024-06-26 19:31:45 -0400 (Wed, 26 Jun 2024) EndedAt: 2024-06-26 19:37:02 -0400 (Wed, 26 Jun 2024) EllapsedTime: 316.6 seconds RetCode: 0 Status: OK PackageFile: iCNV_1.24.0.tar.gz PackageFileSize: 1.765 MiB