Package: iCNV Version: 1.24.0 Command: rm -rf iCNV.buildbin-libdir && mkdir iCNV.buildbin-libdir && F:\biocbuild\bbs-3.19-bioc\R\bin\R.exe CMD INSTALL --build --library=iCNV.buildbin-libdir iCNV_1.24.0.tar.gz StartedAt: 2024-06-27 08:22:12 -0400 (Thu, 27 Jun 2024) EndedAt: 2024-06-27 08:23:01 -0400 (Thu, 27 Jun 2024) EllapsedTime: 48.6 seconds RetCode: 0 Status: OK PackageFile: iCNV_1.24.0.zip PackageFileSize: 1.896 MiB