Package: iCNV Version: 1.24.0 Command: /home/biocbuild/R/R-beta-2024-04-15_r86425/bin/R CMD check --install=check:iCNV.install-out.txt --library=/home/biocbuild/R/R-beta-2024-04-15_r86425/site-library --no-vignettes --timings iCNV_1.24.0.tar.gz StartedAt: 2024-05-09 08:28:52 -0000 (Thu, 09 May 2024) EndedAt: 2024-05-09 08:33:55 -0000 (Thu, 09 May 2024) EllapsedTime: 303.5 seconds RetCode: 0 Status: WARNINGS CheckDir: iCNV.Rcheck Warnings: 1