Package: iCNV Version: 1.24.0 Command: /home/biocbuild/R/R-beta-2024-04-15_r86425/bin/R CMD build --keep-empty-dirs --no-resave-data iCNV StartedAt: 2024-05-09 01:02:02 -0000 (Thu, 09 May 2024) EndedAt: 2024-05-09 01:05:05 -0000 (Thu, 09 May 2024) EllapsedTime: 183.3 seconds RetCode: 0 Status: OK PackageFile: iCNV_1.24.0.tar.gz PackageFileSize: 1.786 MiB