Package: iCNV Version: 1.24.0 Command: /Library/Frameworks/R.framework/Resources/bin/R CMD build --keep-empty-dirs --no-resave-data iCNV StartedAt: 2024-10-17 02:35:22 -0400 (Thu, 17 Oct 2024) EndedAt: 2024-10-17 02:37:41 -0400 (Thu, 17 Oct 2024) EllapsedTime: 138.6 seconds RetCode: 0 Status: OK PackageFile: iCNV_1.24.0.tar.gz PackageFileSize: 2.361 MiB