Package: iCARE Version: 1.32.0 Command: chmod a+r iCARE -R && E:\biocbuild\bbs-3.19-bioc\R\bin\R.exe CMD build --keep-empty-dirs --no-resave-data iCARE StartedAt: 2024-10-16 19:45:25 -0400 (Wed, 16 Oct 2024) EndedAt: 2024-10-16 19:49:43 -0400 (Wed, 16 Oct 2024) EllapsedTime: 258.2 seconds RetCode: 0 Status: OK PackageFile: iCARE_1.32.0.tar.gz PackageFileSize: 1.252 MiB