Package: iCARE Version: 1.32.0 Maintainer: Bill Wheeler MaintainerEmail: wheelerb at imsweb.com git_url: https://git.bioconductor.org/packages/iCARE git_branch: RELEASE_3_19 git_last_commit: 62a1420 git_last_commit_date: 2024-04-30 10:47:48 -0400 (Tue, 30 Apr 2024)