Package: iBMQ Version: 1.44.0 Command: rm -rf iBMQ.buildbin-libdir && mkdir iBMQ.buildbin-libdir && F:\biocbuild\bbs-3.19-bioc\R\bin\R.exe CMD INSTALL --build --library=iBMQ.buildbin-libdir iBMQ_1.44.0.tar.gz StartedAt: 2024-06-27 08:22:00 -0400 (Thu, 27 Jun 2024) EndedAt: 2024-06-27 08:22:24 -0400 (Thu, 27 Jun 2024) EllapsedTime: 23.2 seconds RetCode: 0 Status: OK PackageFile: iBMQ_1.44.0.zip PackageFileSize: 2.453 MiB