Package: iBBiG Version: 1.48.0 Command: E:\biocbuild\bbs-3.19-bioc\R\bin\R.exe CMD INSTALL iBBiG StartedAt: 2024-10-16 17:09:30 -0400 (Wed, 16 Oct 2024) EndedAt: 2024-10-16 17:09:47 -0400 (Wed, 16 Oct 2024) EllapsedTime: 17.7 seconds RetCode: 0 Status: OK