Package: iBBiG Version: 1.48.0 Command: chmod a+r iBBiG -R && E:\biocbuild\bbs-3.19-bioc\R\bin\R.exe CMD build --keep-empty-dirs --no-resave-data iBBiG StartedAt: 2024-10-16 19:45:15 -0400 (Wed, 16 Oct 2024) EndedAt: 2024-10-16 19:46:01 -0400 (Wed, 16 Oct 2024) EllapsedTime: 46.8 seconds RetCode: 0 Status: OK PackageFile: iBBiG_1.48.0.tar.gz PackageFileSize: 910.5 KiB