Package: iBBiG Version: 1.48.0 Command: rm -rf iBBiG.buildbin-libdir && mkdir iBBiG.buildbin-libdir && E:\biocbuild\bbs-3.19-bioc\R\bin\R.exe CMD INSTALL --build --library=iBBiG.buildbin-libdir iBBiG_1.48.0.tar.gz StartedAt: 2024-10-17 07:58:28 -0400 (Thu, 17 Oct 2024) EndedAt: 2024-10-17 07:58:57 -0400 (Thu, 17 Oct 2024) EllapsedTime: 29.7 seconds RetCode: 0 Status: OK PackageFile: iBBiG_1.48.0.zip PackageFileSize: 1.096 MiB