Package: iBBiG Version: 1.48.0 Command: chmod a+r iBBiG -R && F:\biocbuild\bbs-3.19-bioc\R\bin\R.exe CMD build --keep-empty-dirs --no-resave-data iBBiG StartedAt: 2024-06-26 19:31:07 -0400 (Wed, 26 Jun 2024) EndedAt: 2024-06-26 19:31:52 -0400 (Wed, 26 Jun 2024) EllapsedTime: 45.6 seconds RetCode: 0 Status: OK PackageFile: iBBiG_1.48.0.tar.gz PackageFileSize: 909.5 KiB