Package: iBBiG Version: 1.48.0 Command: /home/biocbuild/bbs-3.19-bioc/R/bin/R CMD INSTALL iBBiG StartedAt: 2024-10-16 16:36:49 -0400 (Wed, 16 Oct 2024) EndedAt: 2024-10-16 16:36:56 -0400 (Wed, 16 Oct 2024) EllapsedTime: 6.8 seconds RetCode: 0 Status: OK