Package: iBBiG Version: 1.48.0 Command: rm -rf iBBiG.buildbin-libdir && mkdir iBBiG.buildbin-libdir && /Users/biocbuild/BBS/utils/build-universal.sh iBBiG_1.48.0.tar.gz /Library/Frameworks/R.framework/Resources/bin/R iBBiG.buildbin-libdir StartedAt: 2024-10-17 16:22:35 -0400 (Thu, 17 Oct 2024) EndedAt: 2024-10-17 16:22:57 -0400 (Thu, 17 Oct 2024) EllapsedTime: 21.5 seconds RetCode: 0 Status: OK PackageFile: iBBiG_1.48.0.tgz PackageFileSize: 1.09 MiB