Package: iBBiG Version: 1.48.0 Command: /home/biocbuild/R/R-beta-2024-04-15_r86425/bin/R CMD INSTALL iBBiG StartedAt: 2024-05-08 20:57:04 -0000 (Wed, 08 May 2024) EndedAt: 2024-05-08 20:57:14 -0000 (Wed, 08 May 2024) EllapsedTime: 9.9 seconds RetCode: 0 Status: OK