Package: iBBiG Version: 1.48.0 Command: /Library/Frameworks/R.framework/Resources/bin/R CMD INSTALL iBBiG StartedAt: 2024-10-16 18:22:04 -0400 (Wed, 16 Oct 2024) EndedAt: 2024-10-16 18:22:13 -0400 (Wed, 16 Oct 2024) EllapsedTime: 9.5 seconds RetCode: 0 Status: OK