Package: hypergraph Version: 1.76.0 Command: E:\biocbuild\bbs-3.19-bioc\R\bin\R.exe CMD INSTALL hypergraph StartedAt: 2024-10-16 16:02:28 -0400 (Wed, 16 Oct 2024) EndedAt: 2024-10-16 16:02:58 -0400 (Wed, 16 Oct 2024) EllapsedTime: 29.5 seconds RetCode: 0 Status: OK