Package: hypergraph Version: 1.76.0 Command: rm -rf hypergraph.buildbin-libdir && mkdir hypergraph.buildbin-libdir && E:\biocbuild\bbs-3.19-bioc\R\bin\R.exe CMD INSTALL --build --library=hypergraph.buildbin-libdir hypergraph_1.76.0.tar.gz StartedAt: 2024-10-17 07:58:23 -0400 (Thu, 17 Oct 2024) EndedAt: 2024-10-17 07:58:38 -0400 (Thu, 17 Oct 2024) EllapsedTime: 14.8 seconds RetCode: 0 Status: OK PackageFile: hypergraph_1.76.0.zip PackageFileSize: 169.2 KiB