Package: hyperdraw Version: 1.56.0 Command: chmod a+r hyperdraw -R && F:\biocbuild\bbs-3.19-bioc\R\bin\R.exe CMD build --keep-empty-dirs --no-resave-data hyperdraw StartedAt: 2024-06-26 19:30:51 -0400 (Wed, 26 Jun 2024) EndedAt: 2024-06-26 19:31:09 -0400 (Wed, 26 Jun 2024) EllapsedTime: 18.0 seconds RetCode: 0 Status: OK PackageFile: hyperdraw_1.56.0.tar.gz PackageFileSize: 88.69 KiB