Package: hypeR Version: 2.2.0 Command: /home/biocbuild/bbs-3.19-bioc/R/bin/R CMD build --keep-empty-dirs --no-resave-data hypeR StartedAt: 2024-10-16 19:00:22 -0400 (Wed, 16 Oct 2024) EndedAt: 2024-10-16 19:00:35 -0400 (Wed, 16 Oct 2024) EllapsedTime: 13.0 seconds RetCode: 0 Status: OK PackageFile: hypeR_2.2.0.tar.gz PackageFileSize: 316.4 KiB