Package: hypeR Version: 2.2.0 Command: /home/biocbuild/R/R-beta-2024-04-15_r86425/bin/R CMD build --keep-empty-dirs --no-resave-data hypeR StartedAt: 2024-05-09 01:01:02 -0000 (Thu, 09 May 2024) EndedAt: 2024-05-09 01:01:20 -0000 (Thu, 09 May 2024) EllapsedTime: 18.0 seconds RetCode: 0 Status: OK PackageFile: hypeR_2.2.0.tar.gz PackageFileSize: 340.4 KiB