Package: hypeR Version: 2.2.0 Maintainer: Anthony Federico MaintainerEmail: anfed at bu.edu git_url: https://git.bioconductor.org/packages/hypeR git_branch: RELEASE_3_19 git_last_commit: 14ffc40 git_last_commit_date: 2024-04-30 11:12:53 -0400 (Tue, 30 Apr 2024)