Package: hummingbird Version: 1.14.0 Command: E:\biocbuild\bbs-3.19-bioc\R\bin\R.exe CMD INSTALL hummingbird StartedAt: 2024-10-16 16:19:44 -0400 (Wed, 16 Oct 2024) EndedAt: 2024-10-16 16:20:16 -0400 (Wed, 16 Oct 2024) EllapsedTime: 32.3 seconds RetCode: 0 Status: OK