Package: hummingbird Version: 1.14.0 Command: chmod a+r hummingbird -R && E:\biocbuild\bbs-3.19-bioc\R\bin\R.exe CMD build --keep-empty-dirs --no-resave-data hummingbird StartedAt: 2024-10-16 19:44:29 -0400 (Wed, 16 Oct 2024) EndedAt: 2024-10-16 19:45:14 -0400 (Wed, 16 Oct 2024) EllapsedTime: 44.2 seconds RetCode: 0 Status: OK PackageFile: hummingbird_1.14.0.tar.gz PackageFileSize: 405.1 KiB