Package: hummingbird Version: 1.14.0 Command: rm -rf hummingbird.buildbin-libdir && mkdir hummingbird.buildbin-libdir && /Users/biocbuild/BBS/utils/build-universal.sh hummingbird_1.14.0.tar.gz /Library/Frameworks/R.framework/Resources/bin/R hummingbird.buildbin-libdir StartedAt: 2024-10-17 16:22:20 -0400 (Thu, 17 Oct 2024) EndedAt: 2024-10-17 16:23:19 -0400 (Thu, 17 Oct 2024) EllapsedTime: 59.6 seconds RetCode: 0 Status: OK PackageFile: hummingbird_1.14.0.tgz PackageFileSize: 476.7 KiB