Package: hummingbird Version: 1.14.0 Command: /Library/Frameworks/R.framework/Resources/bin/R CMD INSTALL hummingbird StartedAt: 2024-06-09 15:10:16 -0400 (Sun, 09 Jun 2024) EndedAt: 2024-06-09 15:10:51 -0400 (Sun, 09 Jun 2024) EllapsedTime: 35.5 seconds RetCode: 0 Status: OK