Package: hummingbird Version: 1.14.0 Command: rm -rf hummingbird.buildbin-libdir && mkdir hummingbird.buildbin-libdir && /Users/biocbuild/BBS/utils/build-universal.sh hummingbird_1.14.0.tar.gz /Library/Frameworks/R.framework/Resources/bin/R hummingbird.buildbin-libdir StartedAt: 2024-06-10 00:22:36 -0400 (Mon, 10 Jun 2024) EndedAt: 2024-06-10 00:23:13 -0400 (Mon, 10 Jun 2024) EllapsedTime: 36.6 seconds RetCode: 0 Status: OK PackageFile: hummingbird_1.14.0.tgz PackageFileSize: 476.5 KiB