Package: hummingbird Version: 1.14.0 Command: /Library/Frameworks/R.framework/Resources/bin/R CMD INSTALL hummingbird StartedAt: 2024-06-09 15:18:05 -0400 (Sun, 09 Jun 2024) EndedAt: 2024-06-09 15:18:37 -0400 (Sun, 09 Jun 2024) EllapsedTime: 31.9 seconds RetCode: 0 Status: OK