Package: hummingbird Version: 1.14.0 Command: /Library/Frameworks/R.framework/Resources/bin/R CMD INSTALL hummingbird StartedAt: 2024-10-16 15:55:41 -0400 (Wed, 16 Oct 2024) EndedAt: 2024-10-16 15:56:09 -0400 (Wed, 16 Oct 2024) EllapsedTime: 27.3 seconds RetCode: 0 Status: OK