Package: hpar Version: 1.46.0 Command: E:\biocbuild\bbs-3.19-bioc\R\bin\R.exe CMD check --no-multiarch --install=check:hpar.install-out.txt --library=E:\biocbuild\bbs-3.19-bioc\R\library --no-vignettes --timings hpar_1.46.0.tar.gz StartedAt: 2024-10-17 02:23:53 -0400 (Thu, 17 Oct 2024) EndedAt: 2024-10-17 02:26:08 -0400 (Thu, 17 Oct 2024) EllapsedTime: 135.7 seconds RetCode: 0 Status: OK CheckDir: hpar.Rcheck Warnings: 0