Package: hpar Version: 1.46.0 Command: chmod a+r hpar -R && E:\biocbuild\bbs-3.19-bioc\R\bin\R.exe CMD build --keep-empty-dirs --no-resave-data hpar StartedAt: 2024-10-16 19:43:50 -0400 (Wed, 16 Oct 2024) EndedAt: 2024-10-16 19:46:31 -0400 (Wed, 16 Oct 2024) EllapsedTime: 160.9 seconds RetCode: 0 Status: OK PackageFile: hpar_1.46.0.tar.gz PackageFileSize: 885.6 KiB