Package: hpar Version: 1.46.0 Command: rm -rf hpar.buildbin-libdir && mkdir hpar.buildbin-libdir && E:\biocbuild\bbs-3.19-bioc\R\bin\R.exe CMD INSTALL --build --library=hpar.buildbin-libdir hpar_1.46.0.tar.gz StartedAt: 2024-10-17 07:57:57 -0400 (Thu, 17 Oct 2024) EndedAt: 2024-10-17 07:58:18 -0400 (Thu, 17 Oct 2024) EllapsedTime: 21.7 seconds RetCode: 0 Status: OK PackageFile: hpar_1.46.0.zip PackageFileSize: 644.6 KiB