Package: hpar Version: 1.46.0 Command: rm -rf hpar.buildbin-libdir && mkdir hpar.buildbin-libdir && F:\biocbuild\bbs-3.19-bioc\R\bin\R.exe CMD INSTALL --build --library=hpar.buildbin-libdir hpar_1.46.0.tar.gz StartedAt: 2024-06-27 08:21:34 -0400 (Thu, 27 Jun 2024) EndedAt: 2024-06-27 08:22:02 -0400 (Thu, 27 Jun 2024) EllapsedTime: 28.4 seconds RetCode: 0 Status: OK PackageFile: hpar_1.46.0.zip PackageFileSize: 644.6 KiB