Package: hpar Version: 1.46.0 Command: /home/biocbuild/bbs-3.19-bioc/R/bin/R CMD check --install=check:hpar.install-out.txt --library=/home/biocbuild/bbs-3.19-bioc/R/site-library --timings hpar_1.46.0.tar.gz StartedAt: 2024-10-17 01:27:21 -0400 (Thu, 17 Oct 2024) EndedAt: 2024-10-17 01:29:31 -0400 (Thu, 17 Oct 2024) EllapsedTime: 130.3 seconds RetCode: 0 Status: OK CheckDir: hpar.Rcheck Warnings: 0