Package: hpar Version: 1.46.0 Command: /home/biocbuild/R/R-beta-2024-04-15_r86425/bin/R CMD build --keep-empty-dirs --no-resave-data hpar StartedAt: 2024-05-09 00:59:52 -0000 (Thu, 09 May 2024) EndedAt: 2024-05-09 01:00:46 -0000 (Thu, 09 May 2024) EllapsedTime: 54.1 seconds RetCode: 0 Status: OK PackageFile: hpar_1.46.0.tar.gz PackageFileSize: 983.1 KiB