Package: hpar Version: 1.46.0 Command: /Library/Frameworks/R.framework/Resources/bin/R CMD check --install=check:hpar.install-out.txt --library=/Library/Frameworks/R.framework/Resources/library --no-vignettes --timings hpar_1.46.0.tar.gz StartedAt: 2024-10-18 00:44:39 -0400 (Fri, 18 Oct 2024) EndedAt: 2024-10-18 00:46:50 -0400 (Fri, 18 Oct 2024) EllapsedTime: 130.9 seconds RetCode: 0 Status: OK CheckDir: hpar.Rcheck Warnings: 0