Package: hopach Version: 2.64.0 Command: E:\biocbuild\bbs-3.19-bioc\R\bin\R.exe CMD INSTALL hopach StartedAt: 2024-10-16 16:02:18 -0400 (Wed, 16 Oct 2024) EndedAt: 2024-10-16 16:02:37 -0400 (Wed, 16 Oct 2024) EllapsedTime: 19.7 seconds RetCode: 0 Status: OK