Package: hopach Version: 2.64.0 Command: F:\biocbuild\bbs-3.19-bioc\R\bin\R.exe CMD check --no-multiarch --install=check:hopach.install-out.txt --library=F:\biocbuild\bbs-3.19-bioc\R\library --no-vignettes --timings hopach_2.64.0.tar.gz StartedAt: 2024-06-27 02:38:18 -0400 (Thu, 27 Jun 2024) EndedAt: 2024-06-27 02:39:31 -0400 (Thu, 27 Jun 2024) EllapsedTime: 73.2 seconds RetCode: 0 Status: OK CheckDir: hopach.Rcheck Warnings: 0