Package: hopach Version: 2.64.0 Command: /Library/Frameworks/R.framework/Resources/bin/R CMD INSTALL hopach StartedAt: 2024-10-16 15:07:08 -0400 (Wed, 16 Oct 2024) EndedAt: 2024-10-16 15:07:29 -0400 (Wed, 16 Oct 2024) EllapsedTime: 21.9 seconds RetCode: 0 Status: OK