Package: hopach Version: 2.64.0 Command: /Library/Frameworks/R.framework/Resources/bin/R CMD check --install=check:hopach.install-out.txt --library=/Library/Frameworks/R.framework/Resources/library --no-vignettes --timings hopach_2.64.0.tar.gz StartedAt: 2024-10-18 00:44:19 -0400 (Fri, 18 Oct 2024) EndedAt: 2024-10-18 00:45:24 -0400 (Fri, 18 Oct 2024) EllapsedTime: 65.1 seconds RetCode: 0 Status: OK CheckDir: hopach.Rcheck Warnings: 0