Package: hoodscanR Version: 1.2.0 Command: /Library/Frameworks/R.framework/Resources/bin/R CMD INSTALL hoodscanR StartedAt: 2024-10-16 15:57:11 -0400 (Wed, 16 Oct 2024) EndedAt: 2024-10-16 15:58:21 -0400 (Wed, 16 Oct 2024) EllapsedTime: 69.7 seconds RetCode: 0 Status: OK