Package: hoodscanR Version: 1.2.0 Command: /Library/Frameworks/R.framework/Resources/bin/R CMD check --install=check:hoodscanR.install-out.txt --library=/Library/Frameworks/R.framework/Resources/library --no-vignettes --timings hoodscanR_1.2.0.tar.gz StartedAt: 2024-10-18 00:44:08 -0400 (Fri, 18 Oct 2024) EndedAt: 2024-10-18 00:48:13 -0400 (Fri, 18 Oct 2024) EllapsedTime: 244.8 seconds RetCode: 0 Status: OK CheckDir: hoodscanR.Rcheck Warnings: 0