Package: hoodscanR Version: 1.2.0 Command: rm -rf hoodscanR.buildbin-libdir && mkdir hoodscanR.buildbin-libdir && /Users/biocbuild/BBS/utils/build-universal.sh hoodscanR_1.2.0.tar.gz /Library/Frameworks/R.framework/Resources/bin/R hoodscanR.buildbin-libdir StartedAt: 2024-10-18 18:56:29 -0400 (Fri, 18 Oct 2024) EndedAt: 2024-10-18 18:57:13 -0400 (Fri, 18 Oct 2024) EllapsedTime: 44.6 seconds RetCode: 0 Status: OK PackageFile: hoodscanR_1.2.0.tgz PackageFileSize: 3.125 MiB