Package: hmdbQuery Version: 1.24.0 Command: chmod a+r hmdbQuery -R && E:\biocbuild\bbs-3.19-bioc\R\bin\R.exe CMD build --keep-empty-dirs --no-resave-data hmdbQuery StartedAt: 2024-10-16 19:42:43 -0400 (Wed, 16 Oct 2024) EndedAt: 2024-10-16 19:43:19 -0400 (Wed, 16 Oct 2024) EllapsedTime: 36.3 seconds RetCode: 0 Status: OK PackageFile: hmdbQuery_1.24.0.tar.gz PackageFileSize: 749.3 KiB