Package: hmdbQuery Version: 1.24.0 Command: rm -rf hmdbQuery.buildbin-libdir && mkdir hmdbQuery.buildbin-libdir && E:\biocbuild\bbs-3.19-bioc\R\bin\R.exe CMD INSTALL --build --library=hmdbQuery.buildbin-libdir hmdbQuery_1.24.0.tar.gz StartedAt: 2024-10-17 07:57:48 -0400 (Thu, 17 Oct 2024) EndedAt: 2024-10-17 07:58:10 -0400 (Thu, 17 Oct 2024) EllapsedTime: 22.5 seconds RetCode: 0 Status: OK PackageFile: hmdbQuery_1.24.0.zip PackageFileSize: 887.8 KiB