Package: hmdbQuery Version: 1.24.0 Command: F:\biocbuild\bbs-3.19-bioc\R\bin\R.exe CMD INSTALL hmdbQuery StartedAt: 2024-06-26 15:42:59 -0400 (Wed, 26 Jun 2024) EndedAt: 2024-06-26 15:43:22 -0400 (Wed, 26 Jun 2024) EllapsedTime: 23.1 seconds RetCode: 0 Status: OK