Package: hmdbQuery Version: 1.24.0 Command: chmod a+r hmdbQuery -R && F:\biocbuild\bbs-3.19-bioc\R\bin\R.exe CMD build --keep-empty-dirs --no-resave-data hmdbQuery StartedAt: 2024-06-26 19:29:25 -0400 (Wed, 26 Jun 2024) EndedAt: 2024-06-26 19:30:15 -0400 (Wed, 26 Jun 2024) EllapsedTime: 49.8 seconds RetCode: 0 Status: OK PackageFile: hmdbQuery_1.24.0.tar.gz PackageFileSize: 749.3 KiB